BEGIN:VCALENDAR
VERSION:2.0
PRODID:-//TYPO3/NONSGML Calendarize//EN
BEGIN:VEVENT
UID:calendarize-882768
DTSTART:20261129T150000Z
DTEND:20261129T225900Z
SUMMARY:Adventskonzert - Blasorchester Biberbach
DESCRIPTION:
LOCATION:Wallfahrtskirche Biberbach, Am Kirchberg 24, 86485 Biberbach
END:VEVENT
END:VCALENDAR