BEGIN:VCALENDAR
VERSION:2.0
PRODID:-//TYPO3/NONSGML Calendarize//EN
BEGIN:VEVENT
UID:calendarize-882781
DTSTART:20261114T183000Z
DTEND:20261114T225900Z
SUMMARY:Jahreskonzert - Die Gersthofer Blasharmoniker e. V.
DESCRIPTION: 	 		 			Die Gersthofer Blasharmoniker laden zum Jahreskonzert in die Stadthalle ein und präsentieren ein anspruchsvolles Programm moderner und sinfonischer Blasmusik. Wie jedes Jahr werden auch Spenden für einen guten Zweck gesammelt. 		 	 
LOCATION:Stadthalle, Rathausplatz 1, 86368 Gersthofen
END:VEVENT
END:VCALENDAR